BEGIN:VCALENDAR
VERSION:2.0
PRODID:-//CiviCRM//NONSGML CiviEvent iCal//EN
METHOD:PUBLISH

BEGIN:VEVENT
UID:CiviCRM_EventID_1044_a8de52159928d0df24c0ac2932fb8263@facccalifornia.cividesk.com
SUMMARY:2026 Spring European Networking
DESCRIPTION:By registering to this event\, you agree to being 
 added to our Newsletter. You may unsubscribe at an
 ytime.\n \n \n \n  \n \n \n \n The British-America
 n Business Council (BABC) (https://babcsf.org/)\, 
 German American Business Association (GABA) (https
 ://www.gaba-network.org/)\, French American Chambe
 r of Commerce California SF-LA (https://www.faccca
 lifornia.com/) in cooperation with the American-Eu
 ropean Chambers of Commerce and Business Associati
 ons (https://www.eurocham.org/)\, invite you to jo
 in us for another wonderful European Networking Ev
 ent.\n \n \n \n Come and mingle with entrepreneurs
  and a range of professionals involved in cross-bo
 rder business in a very relaxed and European atmos
 phere. This event attracts many international busi
 ness professionals from different European countri
 es. Members of the partnering organizations and th
 eir guests have priority access to tickets for thi
 s event.\n \n \n \n Complimentary appetizers and w
 ine will be served.\n \n \n \n  \n \n 
CATEGORIES:European Networking
CALSCALE:GREGORIAN
TZID:America/Los_Angeles
DTSTAMP;TZID=America/Los_Angeles:20260430T180000
DTSTART;TZID=America/Los_Angeles:20260430T180000
DTEND;TZID=America/Los_Angeles:20260430T200000
LOCATION:J.P. Morgan\, 3223 Hanover St 1st Floor\n Palo Alt
 o\, CA 94301\n United States\n 
URL:https://facccalifornia.cividesk.com/civicrm/event/info?reset=1&id=1044
END:VEVENT
END:VCALENDAR
