BEGIN:VCALENDAR
VERSION:2.0
PRODID:-//CiviCRM//NONSGML CiviEvent iCal//EN
METHOD:PUBLISH

BEGIN:VEVENT
UID:CiviCRM_EventID_1046_a8de52159928d0df24c0ac2932fb8263@facccalifornia.cividesk.com
SUMMARY:Orange County B2B Speed Networking
DESCRIPTION:By registering to this event\, you agree to being 
 added to our Newsletter. You may unsubscribe at an
 ytime.\n \n \n \n  \n \n \n \n The French American
  Chamber of Commerce California invites you to a B
 2B Speed Networking event in Orange County. Unlock
  exclusive connections and premium business opport
 unities during this curated networking mixer. Even
 t that bridges OC and LA business communities!\n \
 n \n \n What to expect?\n \n • Curated group of Fr
 ench-American decision-makers\n \n • Industry-spec
 ific networking connections\n \n • Exclusive globa
 l opportunities at your fingertips\n \n \n \n Form
 at:\n \n • Structured connections \n \n • Wine & A
 ppetizers\n \n \n \n We’re excited to see you! Don
 ’t miss out on this chance to fuel your profession
 al growth and make meaningful connections!\n \n \n
  \n The FACC California Team\n \n \n \n  \n \n 
CATEGORIES:Networking
CALSCALE:GREGORIAN
TZID:America/Los_Angeles
DTSTAMP;TZID=America/Los_Angeles:20260514T180000
DTSTART;TZID=America/Los_Angeles:20260514T180000
DTEND;TZID=America/Los_Angeles:20260514T200000
LOCATION:Moulin\, 1000 Bristol St N Unit 11\n Newport Beach
 \, CA 92660\n United States\n 
URL:https://facccalifornia.cividesk.com/civicrm/event/info?reset=1&id=1046
END:VEVENT
END:VCALENDAR
